BEGIN:VCALENDAR
VERSION:2.0
PRODID:-//Cuina - ECPv6.15.16//NONSGML v1.0//EN
CALSCALE:GREGORIAN
METHOD:PUBLISH
X-WR-CALNAME:Cuina
X-ORIGINAL-URL:https://cuina.com.mx
X-WR-CALDESC:Eventos para Cuina
REFRESH-INTERVAL;VALUE=DURATION:PT1H
X-Robots-Tag:noindex
X-PUBLISHED-TTL:PT1H
BEGIN:VTIMEZONE
TZID:America/Mexico_City
BEGIN:STANDARD
TZOFFSETFROM:-0600
TZOFFSETTO:-0600
TZNAME:CST
DTSTART:20240101T000000
END:STANDARD
END:VTIMEZONE
BEGIN:VEVENT
DTSTART;TZID=America/Mexico_City:20250412T090000
DTEND;TZID=America/Mexico_City:20250412T130000
DTSTAMP:20260422T062414
CREATED:20250331T222048Z
LAST-MODIFIED:20250412T183541Z
UID:10000881-1744448400-1744462800@cuina.com.mx
SUMMARY:Cheesecakes
DESCRIPTION:La versatilidad de este producto es maravillosa y a todos nos encanta. Y en este curso\, el chef Irvin Jiménez te enseñara a elaborar cheescakes de diferentes estilos: FRANCES\, JAPONES y VASCO\, sin horno y de sabores como maracuyá con mango\, plátano marmoleado\, queso de cabra\, etc. Todos con un terminado estético y delicioso\, perfectos para regalar o compartir. \n  \n¡CUPO LIMITADO! ¡POCOS LUGARES DISPONIBLES! \nSi realizas tu pago por este medio\, favor de enviar tu comprobante de pago al correo academy@cuina.com.mx o por whats al 5644326461 para confirmar tu asistencia y enviarte las indicaciones correspondientes. \n  \n*Todos nuestros cursos son para mayores de edad* \n*Curso abierto al público en general/Nivel básico*
URL:https://cuina.com.mx/event/cheesecakes-6/
CATEGORIES:Cursos Cortos
ATTACH;FMTTYPE=image/png:https://cuina.com.mx/wp-content/uploads/2025/03/Cheesecakes-1-e1743460849862.png
END:VEVENT
BEGIN:VEVENT
DTSTART;TZID=America/Mexico_City:20250426T090000
DTEND;TZID=America/Mexico_City:20250426T130000
DTSTAMP:20260422T062414
CREATED:20250331T223932Z
LAST-MODIFIED:20250412T183722Z
UID:10000882-1745658000-1745672400@cuina.com.mx
SUMMARY:Crumble Cookies
DESCRIPTION:¡CURSO NUEVO! \n¿Quieres aprender a hacer las famosas galletas tipo Crumble? ¡Nosotros te enseñamos!! El chef Irvin Jiménez te dará los mejores tips para que este tipo de cookies te queden perfectas. Haremos de diferentes sabores como: Chocolate\, frutos secos\, frutos rojos\, matcha\, chunks de chocolate ¡Y MÁS!. \n  \n¡CUPO LIMITADO! ¡POCOS LUGARES DISPONIBLES! \nSi realizas tu pago por este medio\, favor de enviar tu comprobante de pago al correo academy@cuina.com.mx o por whats al 5644326461 para confirmar tu asistencia y enviarte las indicaciones correspondientes. \n  \n*Todos nuestros cursos son para mayores de edad* \n*Curso abierto al público en general/Nivel básico.*
URL:https://cuina.com.mx/event/crumble-cookies/
CATEGORIES:Cursos Cortos
ATTACH;FMTTYPE=image/png:https://cuina.com.mx/wp-content/uploads/2025/03/Crumble_Cookies2-e1743460577567.png
END:VEVENT
END:VCALENDAR